BEGIN:VCALENDAR
VERSION:2.0
PRODID:-//EAFPS - ECPv6.15.20//NONSGML v1.0//EN
CALSCALE:GREGORIAN
METHOD:PUBLISH
X-WR-CALNAME:EAFPS
X-ORIGINAL-URL:https://eafps.org
X-WR-CALDESC:Events for EAFPS
REFRESH-INTERVAL;VALUE=DURATION:PT1H
X-Robots-Tag:noindex
X-PUBLISHED-TTL:PT1H
BEGIN:VTIMEZONE
TZID:Europe/Berlin
BEGIN:DAYLIGHT
TZOFFSETFROM:+0100
TZOFFSETTO:+0200
TZNAME:CEST
DTSTART:20240331T010000
END:DAYLIGHT
BEGIN:STANDARD
TZOFFSETFROM:+0200
TZOFFSETTO:+0100
TZNAME:CET
DTSTART:20241027T010000
END:STANDARD
BEGIN:DAYLIGHT
TZOFFSETFROM:+0100
TZOFFSETTO:+0200
TZNAME:CEST
DTSTART:20250330T010000
END:DAYLIGHT
BEGIN:STANDARD
TZOFFSETFROM:+0200
TZOFFSETTO:+0100
TZNAME:CET
DTSTART:20251026T010000
END:STANDARD
BEGIN:DAYLIGHT
TZOFFSETFROM:+0100
TZOFFSETTO:+0200
TZNAME:CEST
DTSTART:20260329T010000
END:DAYLIGHT
BEGIN:STANDARD
TZOFFSETFROM:+0200
TZOFFSETTO:+0100
TZNAME:CET
DTSTART:20261025T010000
END:STANDARD
END:VTIMEZONE
BEGIN:VEVENT
DTSTART;VALUE=DATE:20250904
DTEND;VALUE=DATE:20250907
DTSTAMP:20260420T032547
CREATED:20250309T134733Z
LAST-MODIFIED:20250620T213322Z
UID:71635-1756944000-1757203199@eafps.org
SUMMARY:Munich Milestones in Rhinoplasty
DESCRIPTION:[vc_row][vc_column][vc_column_text css=””]\nTHIS EVENT HAS BEEN CANCELED!\nTopics \n– Rhinoplasty –\nCosmetic and Functional. Nasal Anatomy & Proportions. Surface\, Structure\, Preservation Techniques\, Open and Closed. Dorsum & Tip. Ethnic Rhinoplasty.\nSutures & Grafts. Liquid Rhinoplasty\, and more …\nRound Table Discussions\, Clinical Case Conferences\, Lunch Symposia Exhibition accompanying the conference\nAccompanying Teaching Program \n– Rhinoplasty Cadaver Dissection Course –\n(2 Participants per Specimen. Limited Number of Participants. Allocation of Places in the Order of Registration)\n– Workshop “Injectables around the Nose” –\n(Allocation of Places in the Order of Registration)\nPlus: Latest Developments\, MMR 2025 \n– Otoplasty & Ear Reconstruction –\nLatest Developments \n[/vc_column_text][vc_gallery interval=”5″ images=”71642\,71643\,71644\,71645\,71646″ img_size=”full” css=”” title=”Flyer”][/vc_column][/vc_row]
URL:https://eafps.org/event/munich-milestones-in-rhinoplasty/
LOCATION:Großhadern Clinic\, Großhadern Clinic\, Ludwig-Maximilian-University\, Munich and Institute of Forensic Medicine\, Munich\, LMU\, Germany
CATEGORIES:Facial Plastic,Nose,Rhinoplasty
ATTACH;FMTTYPE=image/jpeg:https://eafps.org/wp-content/uploads/2025/03/MMR2025_Flyer_1.webp
ORGANIZER;CN="Prof. Dr. Alexander Berghaus":MAILTO:mmr@cocs.de
END:VEVENT
END:VCALENDAR