BEGIN:VCALENDAR
VERSION:2.0
PRODID:-//EAFPS - ECPv6.15.20//NONSGML v1.0//EN
CALSCALE:GREGORIAN
METHOD:PUBLISH
X-WR-CALNAME:EAFPS
X-ORIGINAL-URL:https://eafps.org
X-WR-CALDESC:Events for EAFPS
REFRESH-INTERVAL;VALUE=DURATION:PT1H
X-Robots-Tag:noindex
X-PUBLISHED-TTL:PT1H
BEGIN:VTIMEZONE
TZID:Europe/Berlin
BEGIN:DAYLIGHT
TZOFFSETFROM:+0100
TZOFFSETTO:+0200
TZNAME:CEST
DTSTART:20250330T010000
END:DAYLIGHT
BEGIN:STANDARD
TZOFFSETFROM:+0200
TZOFFSETTO:+0100
TZNAME:CET
DTSTART:20251026T010000
END:STANDARD
BEGIN:DAYLIGHT
TZOFFSETFROM:+0100
TZOFFSETTO:+0200
TZNAME:CEST
DTSTART:20260329T010000
END:DAYLIGHT
BEGIN:STANDARD
TZOFFSETFROM:+0200
TZOFFSETTO:+0100
TZNAME:CET
DTSTART:20261025T010000
END:STANDARD
BEGIN:DAYLIGHT
TZOFFSETFROM:+0100
TZOFFSETTO:+0200
TZNAME:CEST
DTSTART:20270328T010000
END:DAYLIGHT
BEGIN:STANDARD
TZOFFSETFROM:+0200
TZOFFSETTO:+0100
TZNAME:CET
DTSTART:20271031T010000
END:STANDARD
END:VTIMEZONE
BEGIN:VEVENT
DTSTART;VALUE=DATE:20260702
DTEND;VALUE=DATE:20260706
DTSTAMP:20260423T223609
CREATED:20260203T192619Z
LAST-MODIFIED:20260205T223953Z
UID:73173-1782950400-1783295999@eafps.org
SUMMARY:EAFPS Lisbon 2026
DESCRIPTION:[vc_row][vc_column][vc_gallery interval=”5″ images=”73186\,73177\,73178\,73179\,73180\,73181″ img_size=”medium” css=”” title=”Faculty”][/vc_column][/vc_row]
URL:https://eafps.org/event/eafps-lisbon-2026/
LOCATION:Centro Congressos do Estoril\, Av. Amaral\, Lisboa\, Estoril\, 2765-192\, Portugal
CATEGORIES:Course,Facelifting,Facial Aesthetics,Facial Plastic,Facial Rejuvenation,Meetings,Rhinoplasty
ATTACH;FMTTYPE=image/jpeg:https://eafps.org/wp-content/uploads/2026/02/20260702-EAFPS2026-Lisbon-01.jpg
ORGANIZER;CN="Jos%C3%A9 Carlos Neves":MAILTO:jcneves@myface.pt
END:VEVENT
BEGIN:VEVENT
DTSTART;VALUE=DATE:20260717
DTEND;VALUE=DATE:20260720
DTSTAMP:20260423T223609
CREATED:20260310T213232Z
LAST-MODIFIED:20260317T200223Z
UID:73639-1784246400-1784505599@eafps.org
SUMMARY:Nose by Fats Bangkok 2026
DESCRIPTION:[vc_row][vc_column][vc_column_text]\nNOSE by FATS Bangkok 2026 is a highly focused international meeting dedicated exclusively to advanced rhinoplasty techniques. Designed for facial plastic surgeons\, plastic surgeons\, ENT surgeons\, and aesthetic doctors with a strong interest in nasal surgery\, this landmark event brings together globally respected authorities to share mastery\, precision\, and innovation in both aesthetic and functional rhinoplasty. \nThe programme will feature two days of scientific lectures and pre-recorded live surgery presentations\, followed by one dedicated day of cadaver workshop demonstrations and hands-on experience\, providing participants with practical insights into modern rhinoplasty techniques. \n[/vc_column_text][vc_separator][/vc_column][/vc_row][vc_row][vc_column][vc_gallery interval=”3″ images=”73690\,73691\,73692″ img_size=”full” css=”” title=”Programme”][/vc_column][/vc_row]
URL:https://eafps.org/event/nose-by-fats-bangkok-2026/
LOCATION:Chatrium Grand Bangkok\, Chatrium Grand Bangkok\, Thailand
CATEGORIES:Course,Facial Plastic,Nose
ATTACH;FMTTYPE=image/jpeg:https://eafps.org/wp-content/uploads/2026/03/20260717-Nose-by-Fats-Main-Poster-All-Faculty.jpg
ORGANIZER;CN="Yves Saban":MAILTO:info@preservation-rhinoplasty.com
END:VEVENT
BEGIN:VEVENT
DTSTART;VALUE=DATE:20260726
DTEND;VALUE=DATE:20260728
DTSTAMP:20260423T223609
CREATED:20251122T172420Z
LAST-MODIFIED:20260415T193609Z
UID:72930-1785024000-1785196799@eafps.org
SUMMARY:Rhino Excellence V2
DESCRIPTION:[vc_row][vc_column][vc_column_text css=””]\n\nThe wait is finally over. \nCAPS Academy proudly presents the updated dates of Rhino Excellence V2\n26–27 July 2026 | Cairo\, Egypt \nThis distinguished two-day academic experience brings together advanced surgical philosophy\, expert-led case discussions\, and immersive cadaveric dissection\, offering a refined balance between theory and hands-on mastery. \nDay 1: Academic Excellence\nComprehensive lectures\, decision-making algorithms\, surgical strategy\, and expert case analysis. \nDay 2: Cadaveric Mastery\nIntensive hands-on dissection focused on advanced structural and preservation rhinoplasty techniques. \nWe are privileged to host an exceptional international faculty: \nDr. Yves Saban\nA world-renowned authority in preservation rhinoplasty\, internationally respected for his pioneering concepts in dorsal preservation and aesthetic nasal harmony.\n\nDr. Hossam Fouda\nA distinguished rhinoplasty surgeon recognized for his mastery of structural rhinoplasty\, advanced nasal framework reconstruction\, and meticulous surgical precision.A truly elite educational platform designed for surgeons seeking precision\, artistry\, and surgical mastery.Endorsed by the EAFPS\nSecure your seat and be part of this exceptional learning experience. \n\n[/vc_column_text][/vc_column][/vc_row]
URL:https://eafps.org/event/rhino-excellence-v2/
LOCATION:Princess Fatma Academy\, Egypt\, Princess Fatma Academy\, Nasr City\, Cairo\, Egypt
CATEGORIES:Course,Facial Plastic,Live Surgery,Rhinoplasty
ATTACH;FMTTYPE=image/jpeg:https://eafps.org/wp-content/uploads/2025/11/20260404-Rhino-Excellence-2.jpg
ORGANIZER;CN="Yves Saban":MAILTO:info@preservation-rhinoplasty.com
END:VEVENT
END:VCALENDAR