BEGIN:VCALENDAR
VERSION:2.0
PRODID:-//EAFPS - ECPv6.15.20//NONSGML v1.0//EN
CALSCALE:GREGORIAN
METHOD:PUBLISH
X-ORIGINAL-URL:https://eafps.org
X-WR-CALDESC:Events for EAFPS
REFRESH-INTERVAL;VALUE=DURATION:PT1H
X-Robots-Tag:noindex
X-PUBLISHED-TTL:PT1H
BEGIN:VTIMEZONE
TZID:Europe/Berlin
BEGIN:DAYLIGHT
TZOFFSETFROM:+0100
TZOFFSETTO:+0200
TZNAME:CEST
DTSTART:20240331T010000
END:DAYLIGHT
BEGIN:STANDARD
TZOFFSETFROM:+0200
TZOFFSETTO:+0100
TZNAME:CET
DTSTART:20241027T010000
END:STANDARD
BEGIN:DAYLIGHT
TZOFFSETFROM:+0100
TZOFFSETTO:+0200
TZNAME:CEST
DTSTART:20250330T010000
END:DAYLIGHT
BEGIN:STANDARD
TZOFFSETFROM:+0200
TZOFFSETTO:+0100
TZNAME:CET
DTSTART:20251026T010000
END:STANDARD
BEGIN:DAYLIGHT
TZOFFSETFROM:+0100
TZOFFSETTO:+0200
TZNAME:CEST
DTSTART:20260329T010000
END:DAYLIGHT
BEGIN:STANDARD
TZOFFSETFROM:+0200
TZOFFSETTO:+0100
TZNAME:CET
DTSTART:20261025T010000
END:STANDARD
BEGIN:DAYLIGHT
TZOFFSETFROM:+0100
TZOFFSETTO:+0200
TZNAME:CEST
DTSTART:20270328T010000
END:DAYLIGHT
BEGIN:STANDARD
TZOFFSETFROM:+0200
TZOFFSETTO:+0100
TZNAME:CET
DTSTART:20271031T010000
END:STANDARD
END:VTIMEZONE
BEGIN:VEVENT
DTSTART;VALUE=DATE:20260410
DTEND;VALUE=DATE:20260413
DTSTAMP:20260420T002614
CREATED:20250820T092628Z
LAST-MODIFIED:20260115T191747Z
UID:72477-1775779200-1776038399@eafps.org
SUMMARY:9th Special edition Crooked Nose Rhinoplasty Intensive Live Surgery Course
DESCRIPTION:[vc_row][vc_column][vc_column_text css=””]Dear Colleagues\, \nWe are pleased to invite you to attend our 9th Special edition Crooked Nose Rhinoplasty Intensive Live Surgery Course with Dr. Abdülkadir Göksel and Dr. Fazıl APAYDIN. \nThe course will be held between 10 – 12 April 2026 in the beautiful city of Istanbul. \nOur next upcoming course we are going back to basics and will focus on Crooked Nose Rhinoplasty from A to Z. First two days (10-12 April) we will perform 4 Primary Live Surgeries and on the last day (12 April) we will have a Cadaver Dissection Course where you will simulate what you have learned with the guide of our esteemed faculty. During the course\, participants have the opportunity to observe live surgeries from the best angles. \nIn addition\, we are able to share years of experience in a short period of three days by providing drawings and explanations related to the techniques used during the surgeries including hands-on cadaver lab. \nDue to the nature of this exclusive course\, we can only accommodate limited amount of participants. This means you’ll enjoy a truly interactive and personalized learning experience. Feel free to ask your questions\, engage in lively discussions\, and receive personalized feedback from our amazing faculty. Joining us for this course will benefit in your professional development. \nWe are looking forward to meeting you in Istanbul for these three intense days. \nSincerely\,\nDr. Abdülkadir Göksel[/vc_column_text][/vc_column][/vc_row]
URL:https://eafps.org/event/9th-special-edition-crooked-nose-rhinoplasty-intensive-live-surgery-course/
LOCATION:Acıbadem Ataşehir Hastanesi\, Atatürk Mh\, Turgut Özal Blv. No:11\, İstanbul\, Ataşehir\, 34758\, Turkey
CATEGORIES:Course,Live Surgery,Nose,Rhinoplasty
ATTACH;FMTTYPE=image/jpeg:https://eafps.org/wp-content/uploads/2025/08/20260410-Crooked-Nose-Rhinoplasty-Intensive-Live-Surgery-Course.jpg
ORGANIZER;CN="Abd%C3%BClkadir G%C3%B6ksel":MAILTO:info@fiveevents.com
END:VEVENT
BEGIN:VEVENT
DTSTART;VALUE=DATE:20260327
DTEND;VALUE=DATE:20260330
DTSTAMP:20260420T002614
CREATED:20251208T204507Z
LAST-MODIFIED:20251218T220812Z
UID:72979-1774569600-1774828799@eafps.org
SUMMARY:Nosecraft 2026
DESCRIPTION:[vc_row][vc_column][vc_column_text css=””]The Nosecraft 2026 event\, to be held in March 2026\, will take place over three days and will feature lectures prepared by leading experts in the field of rhinoplasty\, edited surgical videos\, and three live surgical sessions. We cordially invite our esteemed colleagues to join us for this exceptional educational experience. \n  \nFRIDAY\, MARCH 27\, 2026 / DAY 1\n07.30 – Registration\n08.00 – Opening Ceremony\, Prof. Dr. Erkan Soylu\n08.10 – Open Structural Technique in Rhinoplasty From Past up to Now\, Prof. Dr. Orhan Özturan\n08.30 – LIVE SUGERY (Primary Aesthetic Female Rhinoplasty)\nOperator: Prof. Dr. Erkan Soylu\nModerator: Op. Dr. Ahmet Alp\, Assoc. Prof. Dr. Hüseyin Balıkçı\n12.00 – Lunch Break\n13.00 – Medico-legal Issues in Rhinoplasty\,\nMember of Council of Forensic Medicine Prof. Dr. Mehmet Çelik\nDr. Alaaddin Egemenoğlu\n13.40 – Osteotomy & Ostectomy – My Way\, Prof. Dr. Erkan Soylu\n14.00 – PANEL: Primary Rhinoplasty With All Aspects\nModerator: Prof. Dr. Fadlullah Aksoy\nSeptal Extension Grafts\, Dr. Öğr. Üyesi Mustafa Çakır\nApproach to the Crooked Nose\, Prof. Dr. Erkan Soylu\nAdjusment of Radix & Nasofrontal Angle\, Op. Dr. Ahmet Alp\nTip Surgery\, Prof. Dr. Erkan Soylu\nDorsum Surgery & Piezo Osteotomy\, Prof. Dr. Hasan Demirhan\nThick Skin & Thin Skin Management in Primary Rhinoplasty\, Prof. Dr. Yüksel Toplu\n16.00-16.45 – Coffee Break\nAdjusment of Forehead\, Radix\, Dorsum\, Tip Transitions\, Assoc. Prof. Dr. Hüseyin Balıkçı\nClosed & Open Approach\, Prof. Dr. Tamer Erdem\nApproach to the Traumatic & Deformed Nose\, Prof. Dr. Hasan Demirhan\nNose Reduction\, Deprojection & Management of Problems\, Prof. Dr. Erkan Soylu\nHow I Manage Intraoperative Adversities in Rhinoplasty\, All Panelists\n– Intraoperative Excessive Bleeding\n– Intraoperative Excessive Swelling\n– Disruption of Keystone Area\n– Caudal Septal Separation from the Spine\n– Break Into Pieces During Osteotomy\n– Disruption of the Integrity of the Lower Lateral Cartilages During Dissection\n18.15 – Short Break\n18.30 – My Perspective: Natural Barbie Style Nose\, Assoc. Prof. Dr. Hüseyin Balıkçı\n18.50 – My Perspective: Primary Asian Rhinoplasty\, Op. Dr. Ahmet Alp\n19.10 – My Perspective: Alar Base Resection\, Prof. Dr. Erkan Soylu\n20.00 – End of the Day \nSATURDAY\, MARCH 28\, 2026 / DAY 2\n07.30 – Opening\n08.00 – Edited Surgical Videos\, Prof. Dr. Yüksel Toplu\, Op. Dr. Ahmet Alp\, Assoc. Prof. Dr. Hüseyin Balıkçı\n08.30 – LIVE SURGERY (Traumatic & Deformed Male Rhinoplasty)\nOperator: Prof. Dr. Erkan Soylu\nModerator: Op. Dr. Ahmet Alp\, Prof. Dr. Şaban Çelebi\n12.00 – Öğle Arası\n13.00– My Perspective: Complicated Revisions\, Prof. Dr. Şaban Çelebi\n13.20 – My Perspective: Complicated Revisions\, Assoc. Prof. Dr. Sercan Göde\n13.40 – My Perspective: WoDAR (Wide Open Dorsal Approach Rhinoplasty)\, Prof. Dr. Orhan Özturan\n14.00 – Edited Surgical Videos: Assoc. Prof. Dr. Sercan Göde\, Prof. Dr. Şaban Çelebi\, Prof. Dr. Erkan Soylu\n14.30-14.50 – Short Break\nPANEL: Preoperative Approach & Postoperative Care in Rhinoplasty\nModerator: Prof. Dr. Erkan Soylu\nPreoperatvie Patient Selection\nPostoperative Care & Patient Management\nFollow-up Periods\nThe Management of Complications\nInternational Patients & Management\nRevision Decision & Revision Time\nYour Own Revisions & Other Revisions\nUnhappy Patient with a Normal Nose\nProf. Dr. Erkan Soylu\, Assoc. Prof. Dr. Sercan Göde\, Op. Dr. Ahmet Alp\, Assoc. Prof. Dr. Hüseyin Balıkçı\, Prof. Dr. Şaban Çelebi\n16.50-17.30 – Coffee Break\nPANEL: Infection & Skin Necrosis in Rhinoplsty\nModerator: Prof. Dr. Orhan Özturan\nPostoperative Antibiotic Prophylaxis\, Infection Disease Specialist Prof. Dr. Mesut Yılmaz\nProphylactic Antibiotic Treatment in Rhinoplasty: Insights from Current Literature\, Prof. Dr. Fadlulah Aksoy\nWhat I Do to Reduce the Risk of Infection\, Assoc. Prof. Dr. Hüseyin Balıkçı\nHow I Reduce the Risk of Skin Necrosis\, Prof. Dr. Erkan Soylu\nApproach to a Patient with Skin Necrosis: Minor Interventions Major Outcomes\, Op. Dr. Ahmet Alp\nDeterioration of the Nose After Serious Infections\, Progression of Skin Retraction & Fibrosis – When & What Kind of Revision\nProf. Dr. Erkan Soylu\, Assoc. Prof. Dr. Sercan Göde\, Op. Dr. Ahmet Alp\, Assoc. Prof. Dr. Hüseyin Balıkçı\,\nProf. Dr. Şaban Çelebi\, Prof. Dr. Ümit Taşkın\, Prof. Dr. Fadlullah Aksoy\, Prof. Dr. Mesut Yılmaz\n20.00– End of the Day \nSUNDAY\, MARCH 29\, 2026 / DAY 3\n07.30 – Opening\n08.00 – Edited Surgical Videos: Prof. Dr. Tamer Erdem\, Assoc. Prof. Dr. Sercan Göde\, Prof. Dr. Ümit Taşkın\n08.30 – LIVE SURGERY (Reconstructive Revision Rhinoplasty)\nOperator: Prof. Dr. Erkan Soylu\nModerator: Op. Dr. Ahmet Alp\, Assoc. Prof. Dr. Sercan Göde\n13.00 – Lunch Break\n14.00 – Edited Surgical Videos: Prof. Dr. Erkan Soylu\, Op. Dr. Ahmet Alp\, Assoc. Prof. Dr. Hüseyin Balıkçı\n14.30 – PANEL: Catastrophic Revisions\nModerator: Prof. Dr. Şaban Çelebi\nCatastrophic Cases with Septal Perforations: Anterior Ethmoidal Arter & Oral Mucosal Flep\, Assoc.Prof. Dr. Sercan Göde\nUsage of Composite Grafts in Catastrophic Cases\, Prof. Dr. Erkan Soylu\nNose Lengthening & Enlargement in Catastrophic Cases\, Prof. Dr. Erkan Soylu\nManagement of Complications in Catastrophic Cases\, Op. Dr. Ahmet Alp\n16.00-16.45 – Coffee Break\nClosed Approach in Catastrophic Cases\, Assoc. Prof. Dr. Sercan Göde\nHow I Shape Thick & Hard Skin in Catastrophic Cases\, Assoc. Prof. Dr. Hüseyin Balıkçı\nPreoperative & Postoperative Treatment of Catastrophic Cases\, All Panelists\nForehead Flap in a Patient With Skin Necrosis\, Prof. Dr. Yüksel Toplu\n18.00 – My Perspective: Ethnic Rhinoplasty\, Prof. Dr. Ümit Taşkın\n18.20 –My Perspective: Perceptual Changes in Rhinoplasty\, Prof. Dr. Erkan Soylu\n19.00 – Acknowledgements and Adjourn \n[/vc_column_text][/vc_column][/vc_row]
URL:https://eafps.org/event/nosecraft-2026/
LOCATION:Hilton Hotel Mall of İstanbul\, Hilton Hotel Mall of İstanbul\, Ziya Gökalp\, Süleyman Demirel Blv No:7\, İkitelli Osb\, İstanbul\, Başakşehir\, 34494\, Turkey
CATEGORIES:Live Surgery,Nose,Rhinoplasty
ATTACH;FMTTYPE=image/jpeg:https://eafps.org/wp-content/uploads/2025/12/20260327-nosecraft-2026-scaled.jpg
ORGANIZER;CN="Erkan Soylu":MAILTO:monur319@gmail.com
END:VEVENT
BEGIN:VEVENT
DTSTART;VALUE=DATE:20251031
DTEND;VALUE=DATE:20251103
DTSTAMP:20260420T002614
CREATED:20250821T182740Z
LAST-MODIFIED:20250912T193931Z
UID:72485-1761868800-1762127999@eafps.org
SUMMARY:All in One Rhinoverse Extreme Rhinoplasty Focused Course
DESCRIPTION:Surgicall Academy proudly presents 10th edition of the Extreme Rhinoplasty Focused Course. \nA milestone event bringing together world-renowned surgeons\, advanced presentations\,\nand challenging surgical cases for extreme rhinoplasty education. \nEvent Highlights & Program\n6️⃣Live Surgeries\n1️⃣4️⃣ Pre-Recorded Live Surgeries\nAdvanced presentations and lectures on cutting-edge rhinoplasty techniques\nIn-depth analysis of challenging and complex cases \n🇪🇸🇹🇷🇬🇧 Simultaneous Translation: Spanish – English – Turkish \nA world-class line-up of rhinoplasty experts will share their advanced techniques\nand surgical approaches. \nBeyond being an educational event\, the 10th Rhinoverse Course is a unique networking platform\, offering participants\nthe chance to learn\, share\, and connect with the global rhinoplasty community in the inspiring city of Istanbul. \nWhy You Should Join? \n✅ Celebrate the 10th anniversary of this exclusive course\n✅ Learn advanced extreme rhinoplasty techniques\n✅ Watch live surgeries by leading experts\n✅ Gain insights from exclusive pre-recorded cases\n✅ Experience challenging and unique complex cases\n✅ Network with surgeons from around the world\n✅ Enjoy the unique atmosphere of Istanbul
URL:https://eafps.org/event/all-in-one-rhinoverse-extreme-rhinoplasty-focused-course/
LOCATION:Wyndham Grand Istanbul Kalamış Hotel\, Wyndham Grand Istanbul Kalamis Marina Hotel\, Istanbul\, Kalamis\, Turkey
CATEGORIES:Live Surgery,Rhinoplasty
ATTACH;FMTTYPE=image/jpeg:https://eafps.org/wp-content/uploads/2025/08/20251031-RhinoVerse-Extreme-Rhinoplasty.jpg
ORGANIZER;CN="A.Emre %C4%B0lhan":MAILTO:info@surgicall.com.tr
END:VEVENT
BEGIN:VEVENT
DTSTART;VALUE=DATE:20251009
DTEND;VALUE=DATE:20251011
DTSTAMP:20260420T002614
CREATED:20250124T202757Z
LAST-MODIFIED:20250126T200514Z
UID:71180-1759968000-1760140799@eafps.org
SUMMARY:Montpellier Live Rhinoplasty 2025
DESCRIPTION:After its successful edition in 2020\, 2022 and 2023\, we invite you to the 4th edition of this intensive rhinoplasty course taking place on October 9\, 10 2025 in Montpellier. The course is intended for surgeons with basic knowledge in rhinoplasty looking to improve their skills. \nThere will be 8 primary and secondary rhinoplasties using both preservative and structural techniques. The surgeries will be filmed in two operating theatres and broadcasted in the auditorium at La Panacée Art Center. \nAll surgeries will be recorded using cutting-edge HD video cameras. \nInteraction will be encouraged and questions will be asked through the moderators during all interventions. The days will be punctuated with lectures from international experts.
URL:https://eafps.org/event/montpellier-live-rhinoplasty-2025/
LOCATION:La Panacée-Montpellier-France\, La Panacée\, 14 rue de l'école de Pharmacie\, Montpellier\, Montpellier\, France
CATEGORIES:Live Surgery,Rhinoplasty
ATTACH;FMTTYPE=image/jpeg:https://eafps.org/wp-content/uploads/2025/01/MLR-2025.webp
ORGANIZER;CN="Guillaume Carles":MAILTO:docteurcarles@gmail.com
END:VEVENT
BEGIN:VEVENT
DTSTART;VALUE=DATE:20250724
DTEND;VALUE=DATE:20250727
DTSTAMP:20260420T002614
CREATED:20250415T174551Z
LAST-MODIFIED:20250513T122148Z
UID:71759-1753315200-1753574399@eafps.org
SUMMARY:Rhinoplasty with THE Master
DESCRIPTION:Lectures\, lab dissection and discussion\nA relaxed and close environment between the faculty and the participants is intended. Brainstorming in diagnostic processes and surgical approaches; lectures “on demand”; clinical cases will be presented by all participants for a constructive debate; surgeries that will be performed live will be analysed and possible surgical techniques will be discussed. \n\nNasal anatomy.\nUsing rib for grafts.\nDorsal preservation rhinoplasty.\nSoft tissue envelope and dissection\nConcepts in precision rhinoplasty.\nBasic concepts in preservation and structured.\nDorsal grafts\, structure and surface.\nRhinoplasty osteotomies and osteoplasty: osteotomes\, saws\, rasps\, piezo and burrs.\nConcepts in conservative tip plasty.\nTip grafting\, structure and camouflage.\n\nLive Surgery\nParticipants will have the opportunity of eyes-on surgery. \nRoom 1 \n\nRhinoplasty\nDean Toriumi\n\nRoom 2 \n\nRhinoplasty\nJosé Carlos Neves\n\nRoom 3 \n\nRhinoplasty\nCristian Cordero\n\nContact Name: Mariana Flório\nContact Email: hello@myfaceacademy.com\nContact Phone: +351915253760
URL:https://eafps.org/event/rhinoplasty-with-the-master/
LOCATION:AHED | Advanced Health Education\, Advanced Health Education\, Lisbon\, Portugal
CATEGORIES:Grafting,Live Surgery,Rhinoplasty
ATTACH;FMTTYPE=image/jpeg:https://eafps.org/wp-content/uploads/2023/09/20250516-rhinoplasty-with-the-master-1024x532-1.webp
END:VEVENT
BEGIN:VEVENT
DTSTART;VALUE=DATE:20250530
DTEND;VALUE=DATE:20250602
DTSTAMP:20260420T002614
CREATED:20250123T183850Z
LAST-MODIFIED:20250123T184039Z
UID:71173-1748563200-1748822399@eafps.org
SUMMARY:10th All in One Rhinoplasty Congress
DESCRIPTION:10th ALL IN ONE RHINOPLASTY CONGRESS & LIVE SURGERY SYMPOSIUM \nA CALL FROM ISTANBUL TO PARTICIPATE IN RHINOVERSE \nWe are hosting the 10th All in One Rhinoplasty Congress in May 2025\, an annual event that rhinoplasty enthusiasts from around all over greatly welcome. \nOn the European side of Istanbul\, with a view of the Bosphorus\, the Hilton Bosphorus Hotel will be hosting the 10th All in One Rhinoplasty Congress from May 30 to June 1\, 2025. \nThere will be six live surgeries\, twelve pre-recorded live surgeries\, and many key-note topics from rhinoplasty community experts that will influence your outcomes. \nCome and join us for this magnificent congress that will feature interactive presentations\, live surgeries\, and social programs.
URL:https://eafps.org/event/10th-all-in-one-rhinoplasty-congress/
LOCATION:Hilton İstanbul Bosphorus Hotel\, Hilton İstanbul Bosphorus Hotel\, Istanbul\, Turkey
CATEGORIES:Blepharoplasty,Live Surgery,Reconstructive Surgery
ATTACH;FMTTYPE=image/jpeg:https://eafps.org/wp-content/uploads/2025/01/10th-All-in-One-Rhinoplasty-Congress_01.webp
ORGANIZER;CN="A.Emre %C4%B0lhan":MAILTO:info@surgicall.com.tr
END:VEVENT
BEGIN:VEVENT
DTSTART;VALUE=DATE:20250421
DTEND;VALUE=DATE:20250424
DTSTAMP:20260420T002614
CREATED:20241125T101419Z
LAST-MODIFIED:20241125T102315Z
UID:71027-1745193600-1745452799@eafps.org
SUMMARY:V. Apaydin Interactive Rhinoplasty Course
DESCRIPTION:Dear Colleagues\, \nThis interactive course is limited to 6 ENT and Plastic surgeons. The aim is to share the\nexperience of 30 years in rhinoplasty in a peer-to-peer way. The reason to keep it to a minimum\nnumber of participants is to make the teaching more interactive and dynamic. By doing so\, the\nparticipant will be able to comprehend all the details during that session. \nPlease see the main topics to be covered during first day of this course below. The participants\nwill not only listen to these lectures\, but also will actively participate. Beside they will take\npictures and will do facial analysis by themselves during the workshops. In other words\, the\nsurgeon will be able to do the surgery before going into surgery. All lectures will be given by\nmyself. The course venue for the first day is my private clinic at Cumhuriyet Bulvarı\, No: 127/7\,\nAlsancak-Konak\, İzmir. \nProgram at a glance:\n• 1 days of interactive lessons: 21April\, 2025. Venue: Apaydın private clinic\n• 2 days of operations: 22-23 April\, 2025. Venue: Private Gazi Hospital \n 
URL:https://eafps.org/event/5th-apaydin-interactive-rhinoplasty-course/
LOCATION:Prof. Dr. Fazil Apaydin Private Clinic\, Cumhuriyet Bulvarı\, No: 127 Kültür Mahallesi\, Izmir\, Alsancak-Konak\, 35220\, Turkey
CATEGORIES:Course,Facial Plastic,Live Surgery
ATTACH;FMTTYPE=image/jpeg:https://eafps.org/wp-content/uploads/2024/11/apaydin-kurs-banner-2025.webp
ORGANIZER;CN="Prof.Dr. Fazil APAYDIN":MAILTO:fazil.apaydin@gmail.com
END:VEVENT
BEGIN:VEVENT
DTSTART;VALUE=DATE:20250418
DTEND;VALUE=DATE:20250421
DTSTAMP:20260420T002614
CREATED:20250131T223350Z
LAST-MODIFIED:20250204T182345Z
UID:71409-1744934400-1745193599@eafps.org
SUMMARY:Intensive Live Surgery Course by Dr.Göksel Basics in Rhinoplasty Edition
DESCRIPTION:4 PRIMARY LIVE SURGERIES+LECTURES\n2 PRESEVATION TECHNIQUES BY DR.GÖKSEL\n2 STRUCTURE TECHNIQUES BY DR. ZHOLTIKOV\n1 CADAVER DISSECTION DAY\nHANDS-ON or OBSERVERSHIP CADAVER LAB \nDear Collegues\,\nWe are pleased to invite you to attend our 8th BASICS IN RHINOPLASTY EDITION Intensive Live Surgery Course with Dr. Abdülkadir Göksel and Dr. Vitaly Zholtikov with also our guest speakers Dr. Mohammadreza Nazari and Dr. Ayman Jaber. \nThe course will be held between 18 – 20 April 2025 in the beautiful city of Istanbul. \nOur next upcoming course we are going back to basics and will focus on Rhinoplasty for Beginners from A to Z. First two days (18-19 april) we will perform 4 Primary Live Surgeries and on the last day (20 april) we will have a Cadaver Dissection Course where you will simulate what you have learned with the guide of our esteemed faculty. During the course\, participants have the opportunity to observe live surgeries from the best angles. In addition\, we are able to share years of experience in a short period of three days by providing drawings and explanations related to the techniques used during the surgeries including hands-on or observer only cadaver lab. \nDue to the nature of this exclusive course\, we can only accommodate limited amount of participants. This means you’ll enjoy a truly interactive and personalized learning experience. Feel free to ask your questions\, engage in lively discussions\, and receive personalized feedback from our amazing faculty. Joining us for this course will benefit in your professional development. \n20250418 intensive live surgery course fees\nWe are looking forward to meeting you in Istanbul for these three intense days.\nSincerely\,\nDr. Abdülkadir Göksel \n\n\n\nEvent Venue/Address\n\n\n\nName: Acıbadem Ataşehir Hastanesi\nlink: https://g.co/kgs/kmNYZwZ\nopen address: Atatürk\, Turgut Özal Blv. No:11\, 34642 Ataşehir/İstanbul
URL:https://eafps.org/event/intensive-live-surgery-course-by-dr-goksel-basics-in-rhinoplasty-edition/
LOCATION:Acıbadem Ataşehir Hastanesi\, Atatürk Mh\, Turgut Özal Blv. No:11\, İstanbul\, Ataşehir\, 34758\, Turkey
CATEGORIES:Cadaver Dissection,Course,Live Surgery,Rhinoplasty
ATTACH;FMTTYPE=image/jpeg:https://eafps.org/wp-content/uploads/2025/01/20250418-Intensive-Live-Surgery-Course.webp
ORGANIZER;CN="Abd%C3%BClkadir G%C3%B6ksel":MAILTO:info@fiveevents.com
END:VEVENT
BEGIN:VEVENT
DTSTART;VALUE=DATE:20250418
DTEND;VALUE=DATE:20250420
DTSTAMP:20260420T002614
CREATED:20250129T203543Z
LAST-MODIFIED:20250129T203842Z
UID:71368-1744934400-1745107199@eafps.org
SUMMARY:25th Rhinoplasty School Intensive Rhinoplasty Course
DESCRIPTION:This is a two-day course. Each day’s immersive program starts at 8 a.m. and runs into the late evening. During that time\, you’ll learn the fundamentals of rhinoplasty and the different surgical techniques employed. \nYou’ll also be able to observe live operations and see theory translated into practice. Throughout the course\, you’ll be continually encouraged to ask questions and engage in a dynamic dialogue with your tutors and each other. \nThe course is designed for surgeons of all levels of experience.
URL:https://eafps.org/event/25th-rhinoplasty-school-intensive-rhinoplasty-course/
LOCATION:Istanbul Amerikan Hastanesi\, Güzelbahçe Sokak No:20\, İstanbul\, Nişantaşı\, 34365\, Turkey
CATEGORIES:Course,Live Surgery,Rhinoplasty
ATTACH;FMTTYPE=image/jpeg:https://eafps.org/wp-content/uploads/2025/01/25th_RhinoplastySchool_intensive_rhinoplasty_course.webp
ORGANIZER;CN="Dr. S%C3%BCreyya %C5%9Eeneldir":MAILTO:burunokulu@gmail.com
END:VEVENT
BEGIN:VEVENT
DTSTART;VALUE=DATE:20250404
DTEND;VALUE=DATE:20250407
DTSTAMP:20260420T002614
CREATED:20241119T184502Z
LAST-MODIFIED:20241224T190627Z
UID:71018-1743724800-1743983999@eafps.org
SUMMARY:Functional Rhinoplasty Days
DESCRIPTION:On behalf of the organizing committee\, we are excited to inform you about the upcoming Functional Rhinoplasty Days\, which will take place from April 4th to 6th\, 2025\, in Moscow\, Russia.\nThis will be the first event of its kind in Russia\, dedicated to advancing the knowledge and techniques in functional rhinoplasty\, where aesthetic and functional approaches converge. \nOur goal is to create a platform for the exchange of expertise between leading international and russian surgeons.\nThe event will feature lectures\, cadaver-dissections and live surgery demonstrations\, all aimed at enhancing the theoretical and practical skills of participants in the field of functional rhinoplasty. \nIt would be a great honor for us to hold this event under the auspices of the European Academy of Facial Plastic Surgery (EAFPS). We believe that the Academy’s involvement would lend significant prestige to the event and contribute to its success. \nWe sincerely hope for your support and look forward to your response. \n  \nRhinoplasty “inside” and “outside” by leading national and international experts. \nEvent Program:\n• All aspects of rhinoplasty: functional and aesthetic\, primary and revision\, preservation\, and structural.\n• Endonasal surgery\, septoplasty\, reconstruction of the nasal septum\, surgery of the nasal turbinates and sinus surgery.\n• Prevention and management of complications.\n• Issues related to rhinoplasty. \nThe theoretical section will be complemented by live surgery and dissections.
URL:https://eafps.org/event/functional-rhinoplasty-days/
LOCATION:Moscow World Trade Center\, Krasnopresnenskaya embankment\, Moscow\, 12\, Russian Federation
CATEGORIES:Endonasal,Live Surgery,Reconstructive Surgery,Rhinoplasty
ATTACH;FMTTYPE=image/jpeg:https://eafps.org/wp-content/uploads/2024/11/20250404-functional-rhinoplasty-days.webp
ORGANIZER;CN="Yuri Rusetski":MAILTO:functionalrhinoplastydays@inbox.ru
END:VEVENT
BEGIN:VEVENT
DTSTART;VALUE=DATE:20250321
DTEND;VALUE=DATE:20250324
DTSTAMP:20260420T002614
CREATED:20241210T204429Z
LAST-MODIFIED:20241210T204656Z
UID:71046-1742515200-1742774399@eafps.org
SUMMARY:Preservation Rhinoplasty Nice - The Masters 2025
DESCRIPTION:Preservation Rhinoplasty ‘The Masters’ 2025 will take place from Friday 21st to Sunday 23rd March\, 2025 at the Hyatt Regency Palais de la Méditerranée in Nice\, France.\n\nToday\, the world of rhinoplasty is in effervescence and full of excitement. \nMany significant innovations are now occurring in rhinoplasty\, such as new biomechanical anatomy concepts\, new instrumentation and new techniques. Preservation Rhinoplasty is a philosophy of remodeling the existing nasal anatomy\, using very few tissue resections and very few grafts\, thus leading to natural appearance of the nose\, which most of the patients are seeking for. Dorsum preservation and tip modifying sutures minimize the need for immediate mid-vault reconstruction and allow minor revisions rather than rib-grafts\, giving greater predictability with less risk. \nNowadays in primary rhinoplasty\, patient selection and surgical concepts look being critical in the evaluation of the benefit/risk ratio. \nThe aim of this 3-day meeting is to show the most recent advances introduced by the rhinoplasty world-class experts who are coming to this meeting to share their experience in structure and classic rhinoplasties as well as in preservation rhinoplasty\, with live surgeries and lectures.
URL:https://eafps.org/event/preservation-rhinoplasty-nice-the-masters-2025/
LOCATION:Hyatt Regency-Nice-France\, Promenade des Anglais 13\, Nice\, Provence-Alpes-Côte d’Azur\, France\, Hyatt Regency-Nice-France\, Promenade des Anglais 13\, Nice\, Provence-Alpes-Côte d'Azur\, France
CATEGORIES:Endonasal,Live Surgery,Meetings,Rhinoplasty
ATTACH;FMTTYPE=image/jpeg:https://eafps.org/wp-content/uploads/2024/12/preservation-rhinoplasty-nice-the-masters-2025.webp
ORGANIZER;CN="Yves Saban":MAILTO:info@preservation-rhinoplasty.com
END:VEVENT
BEGIN:VEVENT
DTSTART;VALUE=DATE:20250117
DTEND;VALUE=DATE:20250120
DTSTAMP:20260420T002614
CREATED:20240508T110703Z
LAST-MODIFIED:20240922T203450Z
UID:70013-1737072000-1737331199@eafps.org
SUMMARY:MFI Academy - Milano Face Intense Course
DESCRIPTION:We are glad to announce the next MFI Academy course. \nThe Milano Face Intense Course will be held in Milano from 17 to 19 January 2025.\nJoin this unforgettable event! \nImmersed in the fascinating world of surgery and beauty\, our conference offers a deep dive into the realm of facial plastic surgery – from the upper to the lower third\, including neck and nose surgery. \nWorld-renowned stars in the field of facial surgery will share their unique knowledge\, revealing the evolution of techniques\, methods\, and the logic of processes. \nExplore innovation with new reports and video recordings of surgeries never before presented at other conferences. \nExplore detailed anatomy of the face\, neck\, and nose in 3D and enrich yourself with new lectures that will enhance your skills and understanding of modern techniques. \nEnjoy an intensive course covering the entire face rejuvenation process\, including nose and eyelid surgery\, ensuring a stunning rejuvenation effect. \nDon’t miss the opportunity to witness live surgery and exchange experiences with colleagues from around the world. \nJoin us and become part of a unique event in the world of plastic surgery!
URL:https://eafps.org/event/mfi-academy-milano-face-intense-course/
LOCATION:Monte Rosa 91\, Via Monte Rosa\, 91\, Milano\, 20149\, Italy
CATEGORIES:Course,Facelifting,Facial Plastic,Live Surgery,Nose,Reconstructive Surgery
ATTACH;FMTTYPE=image/jpeg:https://eafps.org/wp-content/uploads/2024/05/20250117-milano-face-intense-course-big-scaled.webp
ORGANIZER;CN="Alessandro Gualdi":MAILTO:alegualdi@yahoo.it
END:VEVENT
END:VCALENDAR