BEGIN:VCALENDAR
VERSION:2.0
PRODID:-//EAFPS - ECPv6.15.20//NONSGML v1.0//EN
CALSCALE:GREGORIAN
METHOD:PUBLISH
X-ORIGINAL-URL:https://eafps.org
X-WR-CALDESC:Events for EAFPS
REFRESH-INTERVAL;VALUE=DURATION:PT1H
X-Robots-Tag:noindex
X-PUBLISHED-TTL:PT1H
BEGIN:VTIMEZONE
TZID:Europe/Berlin
BEGIN:DAYLIGHT
TZOFFSETFROM:+0100
TZOFFSETTO:+0200
TZNAME:CEST
DTSTART:20250330T010000
END:DAYLIGHT
BEGIN:STANDARD
TZOFFSETFROM:+0200
TZOFFSETTO:+0100
TZNAME:CET
DTSTART:20251026T010000
END:STANDARD
BEGIN:DAYLIGHT
TZOFFSETFROM:+0100
TZOFFSETTO:+0200
TZNAME:CEST
DTSTART:20260329T010000
END:DAYLIGHT
BEGIN:STANDARD
TZOFFSETFROM:+0200
TZOFFSETTO:+0100
TZNAME:CET
DTSTART:20261025T010000
END:STANDARD
BEGIN:DAYLIGHT
TZOFFSETFROM:+0100
TZOFFSETTO:+0200
TZNAME:CEST
DTSTART:20270328T010000
END:DAYLIGHT
BEGIN:STANDARD
TZOFFSETFROM:+0200
TZOFFSETTO:+0100
TZNAME:CET
DTSTART:20271031T010000
END:STANDARD
END:VTIMEZONE
BEGIN:VEVENT
DTSTART;VALUE=DATE:20261015
DTEND;VALUE=DATE:20261017
DTSTAMP:20260419T215613
CREATED:20251220T194851Z
LAST-MODIFIED:20260107T140553Z
UID:73032-1792022400-1792195199@eafps.org
SUMMARY:2nd Swiss Rhinoplasty Masterclass 2026
DESCRIPTION:Advancing the Future of Rhinoplasty\nFollowing the success of the 2025 edition\, the Swiss Rhinoplasty Masterclass returns in 2026 with an expanded program\, a broader international faculty\, and a redesigned educational experience built for deeper learning. \nSet in the vibrant medical hub of Basel\, this two-day masterclass brings together world-leading experts to explore the latest concepts in functional\, aesthetic\, preservation\, and revision rhinoplasty. \nJoin us with our exceptional staff\nDr\, Antonio Sousa Vieira\nProf. Dr. Frank Riedel\nDr. Timur Taskesen\nProf Dr. Nazim Cerkes\nDr. Abdülkadir Göksel\nProf. Dr. Mohamed Amin\nProf. Dr. Wolfgang Gubisch\nDr. Sebastian Haack \nSee you soon in Switzerland\nDr. Mesut Pasha\nCourse Director \n\n\n\nEvent Venue/Address\n\n\n\nDay 1:\nKantonsspital Baselland\nRheinstrasse 26\n4410 Liestal\, SwitzerlandDay 2:\nIBRA Institut\nHochbergerstrasse 60E\n4057 Basel
URL:https://eafps.org/event/2nd-swiss-rhinoplasty-masterclass-2026/
LOCATION:Kantonsspital Baselland\, Kantonsspital Baselland Rheinstrasse 26\, Liestal\, 4410\, Switzerland
CATEGORIES:Cadaver Workshop,Course,Facial Aesthetics,Facial Plastic,Reconstructive Surgery,Rhinoplasty
ATTACH;FMTTYPE=image/jpeg:https://eafps.org/wp-content/uploads/2025/12/20261015-2nd-swiss-rhinoplasty-masterclass-2026.jpg
ORGANIZER;CN="Mesut Pasha":MAILTO:Mesut.pasha@ksbl.ch
END:VEVENT
END:VCALENDAR