BEGIN:VCALENDAR
VERSION:2.0
PRODID:-//EAFPS - ECPv6.15.20//NONSGML v1.0//EN
CALSCALE:GREGORIAN
METHOD:PUBLISH
X-WR-CALNAME:EAFPS
X-ORIGINAL-URL:https://eafps.org
X-WR-CALDESC:Events for EAFPS
REFRESH-INTERVAL;VALUE=DURATION:PT1H
X-Robots-Tag:noindex
X-PUBLISHED-TTL:PT1H
BEGIN:VTIMEZONE
TZID:Europe/Berlin
BEGIN:DAYLIGHT
TZOFFSETFROM:+0100
TZOFFSETTO:+0200
TZNAME:CEST
DTSTART:20240331T010000
END:DAYLIGHT
BEGIN:STANDARD
TZOFFSETFROM:+0200
TZOFFSETTO:+0100
TZNAME:CET
DTSTART:20241027T010000
END:STANDARD
BEGIN:DAYLIGHT
TZOFFSETFROM:+0100
TZOFFSETTO:+0200
TZNAME:CEST
DTSTART:20250330T010000
END:DAYLIGHT
BEGIN:STANDARD
TZOFFSETFROM:+0200
TZOFFSETTO:+0100
TZNAME:CET
DTSTART:20251026T010000
END:STANDARD
BEGIN:DAYLIGHT
TZOFFSETFROM:+0100
TZOFFSETTO:+0200
TZNAME:CEST
DTSTART:20260329T010000
END:DAYLIGHT
BEGIN:STANDARD
TZOFFSETFROM:+0200
TZOFFSETTO:+0100
TZNAME:CET
DTSTART:20261025T010000
END:STANDARD
BEGIN:DAYLIGHT
TZOFFSETFROM:+0100
TZOFFSETTO:+0200
TZNAME:CEST
DTSTART:20270328T010000
END:DAYLIGHT
BEGIN:STANDARD
TZOFFSETFROM:+0200
TZOFFSETTO:+0100
TZNAME:CET
DTSTART:20271031T010000
END:STANDARD
END:VTIMEZONE
BEGIN:VEVENT
DTSTART;VALUE=DATE:20260319
DTEND;VALUE=DATE:20260321
DTSTAMP:20260423T173551
CREATED:20251119T084119Z
LAST-MODIFIED:20251121T203612Z
UID:72918-1773878400-1774051199@eafps.org
SUMMARY:Foundation Facelift Course
DESCRIPTION:[vc_row][vc_column][vc_column_text css=””]\nAims of the Course\nTo train qualified surgeons using a safe and reliable technique developed by Prof Alwyn D’Souza\, aimed at simplifying the complexity of the surgery. Upon completion of this course\, participants will be confident in safely performing a facelift using these foundational techniques to achieve reliable results. \nThe program also includes key principles of reconstructive facial surgery\, broadening its scope beyond aesthetic procedures. They may also further enhance their skills by attending our advanced facelift course at a later date. \nLimited to 20 disectors only\nExclusive course step by step dissection manual \nTarget Participants\nConsultants\, Facial Plastic Surgery fellows and senior registrars interested in head and neck or facelift procedures\, regardless of prior experience in facelift surgery. \nWhy should you attend?\nYou are new to facelift surgery and want to grasp the basics without being overwhelmed by the multitude of techniques.\nYou aspire to master a single safe technique\, enabling you to confidently offer facelift procedures to your patients.\nYou wish to clarify doubts and unravel the complexities associated with aspects of facelift surgery.\nYou aim to become an advanced facelift surgeon\, building upon a solid foundation.\nYou are committed to delivering exceptional outcomes and enhancing patient satisfaction in your practice. \nCourse Highlights:\nFirst-of-its-kind comprehensive facelift course that covers all the fundamental elements of facelift surgery\, including consultation\, photography\, skin care\, infiltration and post-operative management.\nExpert guidance from experienced trainers in facial plastic surgery\, offering clear and straightforward instruction to candidates.\nHands-on fresh frozen cadaveric dissection\, with a maximum of 2 candidates per cadaver\, prioritising practical learning.\nDetailed discussion of surgical steps with videos\, slides and ample time for questions and answers\, ensuring thorough understanding.\nComplimentary course manual featuring clear surgical steps for each candidate. \n  \nVenue:\nPostgraduate Medical Education Centre\nUniversity Hospitals NHS Trust\nCity Hospital PGEC\nHucknall Rd\nNottingham\nNG5 1PB[/vc_column_text][/vc_column][/vc_row]
URL:https://eafps.org/event/foundation-facelift-course/
LOCATION:Postgraduate Centre\, City Hospital\, Nottingham\, UK\, Postgraduate Centre\, City Hospital\, Nottingham\, Nottingham\, United Kingdom
CATEGORIES:Course,Facelifting,Facial Aesthetics,Facial Plastic,Live Webinars
ATTACH;FMTTYPE=image/jpeg:https://eafps.org/wp-content/uploads/2025/11/20260319-foundation-facelift-course.jpg
END:VEVENT
BEGIN:VEVENT
DTSTART;VALUE=DATE:20251023
DTEND;VALUE=DATE:20251027
DTSTAMP:20260423T173551
CREATED:20250411T211056Z
LAST-MODIFIED:20250513T213107Z
UID:71742-1761177600-1761523199@eafps.org
SUMMARY:1st Edition FaceVerse
DESCRIPTION:EXPLORING THE FRONTIERS OF MODERN FACELIFT TECHNIQUES\nFacial Rejuvenation Intensive Course \nAll guests who will be attending the event: \n– Mike Nayak | USA\n– Guy Massry | USA\n– Michele Pascali | ITALY\n– Giovanni Botti | ITALY\n– Mário Ferraz | BRAZIL\n– Edgar Kaminskyi | UKRAINE\n– Martin Devoto | ARGENTINA\n– Ana Duarte | PORTUGAL\n– Luís Antunes | PORTUGAL \nThe contacts to search information/ask: \nURL: www.myfaceacademy.com\nE-mail: hello@myfaceacademy.com\nPhone number: +351 936 247 712
URL:https://eafps.org/event/1st-edition-faceverse/
LOCATION:Central Tejo\, Central Tejo\, Lisbon\, Portugal
CATEGORIES:Facelifting,Facial Plastic
ATTACH;FMTTYPE=image/jpeg:https://eafps.org/wp-content/uploads/2025/04/20250513-faceverse-scaled.webp
ORGANIZER;CN="Jos%C3%A9 Carlos Neves":MAILTO:jcneves@myface.pt
END:VEVENT
BEGIN:VEVENT
DTSTART;VALUE=DATE:20250924
DTEND;VALUE=DATE:20250928
DTSTAMP:20260423T173551
CREATED:20241116T171010Z
LAST-MODIFIED:20250415T195949Z
UID:71008-1758672000-1759017599@eafps.org
SUMMARY:EAFPS 2025 Dublin - 48th Annual Meeting
DESCRIPTION:EAFPS Meeting in Dublin\, 2025. \nDear Friend\, \nWe hope that you are doing well. After a very successful EAFPS İstanbul Meeting\, we have already started preparations of the 48th Annual Meeting of the European Academy of Facial Plastic Surgery which will be held in Dublin from 24th to 27th of September 2025. We would like you to save the date in your calendar and join us in this meeting. \nWe have already invited the most prominent surgeons and teachers into this meeting and we are pretty sure that all participants will be part of an outstanding scientific program. \nWe do hope to see you in Dublin in September 2025. \nBest regards\, \n  \nContact\nNice Evenement & Congres | Sylvie de Salvador\nPhone: +33 6 11 52 24 25 | Email: nice.evenement@gmail.com
URL:https://eafps.org/event/eafps-2025-dublin-48th-annual-meeting/
LOCATION:Dublin Royal Convention Centre\, Ireland\, Dublin Royal Convention Centre\, One Le Pole Square\, Ship Street Great\, Dublin\, D08 E6PD\, Ireland
CATEGORIES:Blepharoplasty,Brainstorming,Course,Endonasal,Facelifting,Facial Plastic,Facial Rejuvenation,Meetings,Nose,Otorhinolaryngology,Reconstructive Surgery,Rhinoplasty
ATTACH;FMTTYPE=image/jpeg:https://eafps.org/wp-content/uploads/2024/11/EAFPS-Announcement-2025-jpg.webp
ORGANIZER;CN="Munish Shandilya":MAILTO:nice.evenement@gmail.com
END:VEVENT
BEGIN:VEVENT
DTSTART;VALUE=DATE:20250529
DTEND;VALUE=DATE:20250531
DTSTAMP:20260423T173551
CREATED:20250218T184347Z
LAST-MODIFIED:20250218T184528Z
UID:71577-1748476800-1748649599@eafps.org
SUMMARY:Foundation Facelift Course
DESCRIPTION:Aims of the Course\nTo train qualified surgeons using a safe and reliable technique developed by Prof Alwyn D’Souza\, aimed at simplifying the complexity of the surgery. Upon completion of this course\, participants will be confident in safely performing a facelift using these foundational techniques to achieve reliable results. \nThe program also includes key principles of reconstructive facial surgery\, broadening its scope beyond aesthetic procedures. They may also further enhance their skills by attending our advanced facelift course at a later date. \nLimited to 18 disectors only.\nExclusive course step by step dissection manual. \nTarget Participants\nConsultants\, Facial Plastic Surgery fellows and senior registrars interested in head and neck or facelift procedures\, regardless of prior experience in facelift surgery. \nWhy should you attend?\nYou are new to facelift surgery and want to grasp the basics without being overwhelmed by the multitude of techniques.\nYou aspire to master a single safe technique\, enabling you to confidently offer facelift procedures to your patients.\nYou wish to clarify doubts and unravel the complexities associated with aspects of facelift surgery.\nYou aim to become an advanced facelift surgeon\, building upon a solid foundation.\nYou are committed to delivering exceptional outcomes and enhancing patient satisfaction in your practice. \nCourse Highlights:\nFirst-of-its-kind comprehensive facelift course that covers all the fundamental elements of facelift surgery\, including consultation\, photography\, skin care\, infiltration and post-operative management.\nExpert guidance from experienced trainers in facial plastic surgery\, offering clear and straightforward instruction to candidates.\nHands-on fresh frozen cadaveric dissection\, with a maximum of 2 candidates per cadaver\, prioritising practical learning.\nDetailed discussion of surgical steps with videos\, slides and ample time for questions and answers\, ensuring thorough understanding.\nComplimentary course manual featuring clear surgical steps for each candidate. \nProgramme (subject to changes):\nDay 1 (29th May 2025):\n08.30: Registration\n08.50: Welcome & general introduction\n09.00: Surgical anatomy of the face\n09.30: Pre-operative consideration of facelift\n• Pre-operative assessment\, consultation & consent\n• Pre-operative photography & morphing\n• USS assessment demonstration (detecting fillers) \n10.30: Dermatological considerations\n• Facial skin assessment & management of skin cancer \n11.00: Coﬀee Break\n11.20: Pre-operative preparations\n• Pre-operative marking (before GA)\n• Anaesthetic considerations\n• Surgical instrument & equipment \n12.20: Starting the operation\n• Patient positioning and lighting\n• Draping\n• Operative anatomy surface marking\n• Infiltration \n13.00: Lunch break\n14.00: Incision planning & facial flap design\n14.30: Raising flap & superficial dissection\n• Skin & subcutaneous tissue flap\n• SMAS identification\n• Deep plane concepts \n15.40: Coﬀee break\n16.00: Release of facial retaining ligaments\n17.00: Facial reconstruction in skin cancer\n18:00: End of Day 1 with closing remarks\n19.00: Faculty & candidates networking dinner & drinks \nDay 2 (30th May 2025):\n8.15: Arrival & general networking\n8.30: Facial burns & their management\n9.00: Surgical management of scarred face\n9.20: Deep plane dissection & facial nerve management\n• SMAS marking\n• Re-infiltration\n• SMAS incision & dissection \n10.30: SMAS suspension\n• Plication\n• Imbrication\n• Vectors in suture suspension (sutures & orientation) \n11.00: Dimple creation\n11.20: Management of midface & neck (including neck fat\, platysmal banding\, digastric muscles & submandibular glands)\n13.00 Lunch Break\n14.00: Flap & skin re-draping\n14.45: Dressing & post-operative care\n15.30: Coﬀee break\n15.50: Z-plasty\, advancement & rotation flaps: design & execution\n16.20: Facial palsy & management\n17:00: Closing remarks\, feedbacks & certificate distribution
URL:https://eafps.org/event/foundation-facelift-course-2025/
LOCATION:West Midlands Surgical Training Centre\, West Midlands Surgical Training Centre - UHCW\, Clifford Bridge Rd.\, Coventry\, Coventry\, CV2 2DX\, United Kingdom
CATEGORIES:Course,Facelifting,Facial Plastic,Reconstructive Surgery
ATTACH;FMTTYPE=image/jpeg:https://eafps.org/wp-content/uploads/2025/02/Foundation-Facelift-Course.webp
END:VEVENT
BEGIN:VEVENT
DTSTART;VALUE=DATE:20250522
DTEND;VALUE=DATE:20250526
DTSTAMP:20260423T173551
CREATED:20250111T150753Z
LAST-MODIFIED:20250121T164426Z
UID:71121-1747872000-1748217599@eafps.org
SUMMARY:Deep Plane Brazil Rino-İstanbul
DESCRIPTION:[vc_row][vc_column][vc_column_text]\nWe are thrilled to invite you to the most anticipated event in Face Lift and Rhinoplasty surgery for 2025 — the Deep Plane Brazil-RinoIstanbul Meeting. Mark your calendar for May 22-25\, 2025\, as we gather in the stunning Swissôtel The Bosphorus\, Istanbul\, to redefine excellence in facial plastic surgery. This extraordinary meeting brings together the best of Brazil and Turkey in Istanbul\, led by our esteemed chairmen\, Dr. Lessandro Martins and Dr. Abdülkadir Göksel. \nWhy Attend? This meeting promises to be an unparalleled experience\, bringing together the world’s leading experts to share cutting-edge advancements and time-tested techniques in deep plane facelift and rhinoplasty. Here’s why you can’t afford to miss it: \n\nWorld-Class Faculty:Learn from a stellar lineup of internationally acclaimed surgeons who are shaping the future of facial aesthetics.\nComprehensive Education:Immerse yourself in an intensive program featuring live surgeries\, in-depth lectures\, and hands-on cadaver dissection labs.\nInnovative Techniques:Gain insights into the latest innovations and surgical strategies that will elevate your practice.\nNetworking Opportunities:Connect with a global community of experts\, exchange ideas\, and build lasting professional relationships.\n\nExperience Excellence in Face Lift and RhinoplastySurgery This masterclass is meticulously curated to provide you with the most comprehensive and practical learning experience. From live surgical demonstrations showcasing advanced techniques to interactive sessions where you can engage directly with the faculty\, every aspect of this event is designed to enhance your expertise and refine your skills. \nLocation Set against the breathtaking backdrop of the Bosphorus\, Swissôtel The Bosphorus offers an inspiring venue to learn\, network\, and rejuvenate. Experience Istanbul’s rich history and vibrant culture while attending this landmark event. \nRegister Now Spaces are limited\, and this event is expected to sell out quickly. Secure your spot today and join the elite community of surgeons shaping the future of facial plastic surgery. \nFor more information about the program\, faculty\, and venue\, visit our website at https://deepplanebrazil.com/ \nWe look forward to welcoming you to Istanbul for this extraordinary journey in surgical mastery. \nThank you in advance\, waiting to hear updates \nBest regards\,\nBridie Egemen[/vc_column_text][vc_gallery type=”flexslider_slide” interval=”3″ images=”71162″ img_size=”full” css=””][/vc_column][/vc_row]
URL:https://eafps.org/event/deep-plane-brazil-rino-istanbul/
LOCATION:Swissotel the Bosphorus (Congress Center)\, Vişnezade Mah. Acısu Sok. NO:19\, Istanbul\, Maçka/İstanbul\, 34357\, Turkey
CATEGORIES:Facelifting,Rhinoplasty
ATTACH;FMTTYPE=image/jpeg:https://eafps.org/wp-content/uploads/2025/01/deep_plane_brazil_rinoistanbul-2a.webp
ORGANIZER;CN="Abd%C3%BClkadir G%C3%B6ksel":MAILTO:info@fiveevents.com
END:VEVENT
BEGIN:VEVENT
DTSTART;VALUE=DATE:20250504
DTEND;VALUE=DATE:20250507
DTSTAMP:20260423T173551
CREATED:20240724T192253Z
LAST-MODIFIED:20250402T102315Z
UID:70408-1746316800-1746575999@eafps.org
SUMMARY:The European Face Lift and Rejuvenation Surgery Course Regensburg 2025
DESCRIPTION:[vc_row][vc_column][vc_column_text css=””]\nWe would like to invite you to the European Face Lift and Rejuvenation Surgery Course in the beautiful city of Regensburg\, Germany. \nThis event is scheduled back to back with the 4th European Course in Endonasal Rhinoplasty (May 1st – May 3rd). Benefit from booking both courses and experience for 6 days of cutting edge teaching by globally recongnized experts. \nThe face lift and rejuvenation surgery course (May 4th- May 6th) will focus on the latest in conventional and deep plane Face Lift and Neck Lift techniques\, Blepharoplasty\, Brown Lift\, Fat Grafting\, Fillers and Injectables. \nPer tradition\, you will be offered excellent quality fresh frozen specimens to practice all relevant methods and techniques in the anatomy lab. \nRegensburg is one of Germany’s most wonderful medieval towns\, relaxing yet vibrant. The town is located close to Munich. Travel is easy through Munich airport\, and hotel accomodation is affordable. \nShare the enthusiasm of over 1700 colleagues who have attended the past Regensburg conferences. \nPlease join us for this unique event and share a memorable time. \n\n\n\nEvent Venue/Address\n\n\n\nVenue May 4th – Anatomic Dissection\nDepartment of Anatomy\, University of Regensburg\nUniversitätsstr. 31\, 93053 Regensburg\, GermanyVenue May 5th-6th\n“Herzogssaal” – Domplatz 3\, 93047 Regensburg\, Germany\n\n\n\n[/vc_column_text][vc_single_image image=”71714″ img_size=”full” alignment=”center” onclick=”img_link_large” css=””][/vc_column][/vc_row]
URL:https://eafps.org/event/the-european-face-lift-and-rejuvenation-surgery-course-regensburg-2025/
LOCATION:Department of Anatomy\, University of Regensburg\, Department of Anatomy\, University of Regensburg\, Regensburg\, Navigate to intersection Tiefstrasse West and Am Biopark\, 93053\, Germany
CATEGORIES:Facelifting,Facial Rejuvenation,Rhinoplasty
ATTACH;FMTTYPE=image/jpeg:https://eafps.org/wp-content/uploads/2023/09/20250402-PDG_Folder_FaceLift_2025_250166_01_1.webp
ORGANIZER;CN="Holger Gassner":MAILTO:info@drgassner.eu
END:VEVENT
BEGIN:VEVENT
DTSTART;VALUE=DATE:20250326
DTEND;VALUE=DATE:20250329
DTSTAMP:20260423T173551
CREATED:20241104T182205Z
LAST-MODIFIED:20241109T200534Z
UID:70978-1742947200-1743206399@eafps.org
SUMMARY:25th International Course on Reconstructive and Aesthetic Surgery of the Nose and Face
DESCRIPTION:Dr. G.W.J.A. Damen\, Otorhinolaryngology/Facial plastic surgery\nRadboud university medical center Nijmegen The Netherlands \nDr. N.S.J.J. Dhooghe\, Plastic surgery\nUniversity Hospitals Ghent Belgium \nDr. N. van Heerbeek\, Otorhinolaryngology/Facial plastic surgery\nRadboud university medical center Nijmegen The Netherlands \nProf. dr. W. Huvenne\, Head and Neck Surgery\nUniversity Hospitals Ghent Belgium \nDr. K.J.A.O. Ingels\, Otorhinolaryngology/Facial plastic surgery\nRadboud university medical center Nijmegen The Netherlands \nDr. P.J.F.M. Lohuis\, Otorhinolaryngology/Head and Neck surgery/Facial plastic surgery\nNetherlands Cancer Institute Antoni van Leeuwenhoek and Diakonessenhuis Zeist The Netherlands \nDr. S.F.K. Lubeek\, Dermatology\nRadboud university medical center Nijmegen The Netherlands \nDr. J. Rowe Jones\, Rhinoplasty / Facial plastic surgery United Kingdom \nProf. dr. T. Reagan\, Facial Plastic and Reconstructive Surgery\nNorthwestern University School of Medicine Chicago\, USA \nDr. A.R.T. Scheffer Otorhinolaryngology/Facial plastic surgery\nRadboud university medical center Nijmegen The Netherlands \nDr. A.J. Tasman\, Otorhinolaryngology/Facial Plastic Surgery\nKantonsspital St. Gallen Switzerland \n  \n\n\n\nRhinoplasty\, Transposition flaps\, Nasal reconstruction\, Otoplasty\, Blepharoplasty\, Brow lift\, Rhytidoplasty and facelift. \nThese techniques are explained step by step by a multidisciplinary international faculty of experts. \nAfter each presentation you will practice a technique hands on. Instead of employing chemicals to preserve bodies\, the bodies are fresh frozen and brought to room temperature\, providing the feel and texture of facial soft issue.\nYou will be practicing the techniques with only two participants per body. \nNose without frontiers’ – What happened around the nose the past 25 years? \nMarch 28\, 13.30-17.00 hrs \nDuring this symposium Peter Adamson\,Thomas Reagan\, Julian Row Jones\, Abel-Jan Tasman\, Peter Lohuis en Koen Ingels will take us into the world of 25 years of ‘Around the nose’.
URL:https://eafps.org/event/25th-international-course-on-reconstructive-and-aesthetic-surgery-of-the-nose-and-face/
LOCATION:Radboud university medical center Nijmegen\, Radboud university medical center Nijmegen\, Nijmegen\, Netherlands
CATEGORIES:Endonasal,Facelifting,Facial Plastic,Nose,Rhinoplasty
ATTACH;FMTTYPE=image/jpeg:https://eafps.org/wp-content/uploads/2024/11/20250326-25th-int-course-on-recons-aesr-surgery-jpg.webp
ORGANIZER;CN="Dr. Koen Ingels":MAILTO:thea.kregting@radboudumc.nl
END:VEVENT
BEGIN:VEVENT
DTSTART;VALUE=DATE:20250117
DTEND;VALUE=DATE:20250120
DTSTAMP:20260423T173551
CREATED:20240508T110703Z
LAST-MODIFIED:20240922T203450Z
UID:70013-1737072000-1737331199@eafps.org
SUMMARY:MFI Academy - Milano Face Intense Course
DESCRIPTION:We are glad to announce the next MFI Academy course. \nThe Milano Face Intense Course will be held in Milano from 17 to 19 January 2025.\nJoin this unforgettable event! \nImmersed in the fascinating world of surgery and beauty\, our conference offers a deep dive into the realm of facial plastic surgery – from the upper to the lower third\, including neck and nose surgery. \nWorld-renowned stars in the field of facial surgery will share their unique knowledge\, revealing the evolution of techniques\, methods\, and the logic of processes. \nExplore innovation with new reports and video recordings of surgeries never before presented at other conferences. \nExplore detailed anatomy of the face\, neck\, and nose in 3D and enrich yourself with new lectures that will enhance your skills and understanding of modern techniques. \nEnjoy an intensive course covering the entire face rejuvenation process\, including nose and eyelid surgery\, ensuring a stunning rejuvenation effect. \nDon’t miss the opportunity to witness live surgery and exchange experiences with colleagues from around the world. \nJoin us and become part of a unique event in the world of plastic surgery!
URL:https://eafps.org/event/mfi-academy-milano-face-intense-course/
LOCATION:Monte Rosa 91\, Via Monte Rosa\, 91\, Milano\, 20149\, Italy
CATEGORIES:Course,Facelifting,Facial Plastic,Live Surgery,Nose,Reconstructive Surgery
ATTACH;FMTTYPE=image/jpeg:https://eafps.org/wp-content/uploads/2024/05/20250117-milano-face-intense-course-big-scaled.webp
ORGANIZER;CN="Alessandro Gualdi":MAILTO:alegualdi@yahoo.it
END:VEVENT
END:VCALENDAR