BEGIN:VCALENDAR
VERSION:2.0
PRODID:-//EAFPS - ECPv6.15.20//NONSGML v1.0//EN
CALSCALE:GREGORIAN
METHOD:PUBLISH
X-WR-CALNAME:EAFPS
X-ORIGINAL-URL:https://eafps.org
X-WR-CALDESC:Events for EAFPS
REFRESH-INTERVAL;VALUE=DURATION:PT1H
X-Robots-Tag:noindex
X-PUBLISHED-TTL:PT1H
BEGIN:VTIMEZONE
TZID:Europe/Berlin
BEGIN:DAYLIGHT
TZOFFSETFROM:+0100
TZOFFSETTO:+0200
TZNAME:CEST
DTSTART:20250330T010000
END:DAYLIGHT
BEGIN:STANDARD
TZOFFSETFROM:+0200
TZOFFSETTO:+0100
TZNAME:CET
DTSTART:20251026T010000
END:STANDARD
BEGIN:DAYLIGHT
TZOFFSETFROM:+0100
TZOFFSETTO:+0200
TZNAME:CEST
DTSTART:20260329T010000
END:DAYLIGHT
BEGIN:STANDARD
TZOFFSETFROM:+0200
TZOFFSETTO:+0100
TZNAME:CET
DTSTART:20261025T010000
END:STANDARD
BEGIN:DAYLIGHT
TZOFFSETFROM:+0100
TZOFFSETTO:+0200
TZNAME:CEST
DTSTART:20270328T010000
END:DAYLIGHT
BEGIN:STANDARD
TZOFFSETFROM:+0200
TZOFFSETTO:+0100
TZNAME:CET
DTSTART:20271031T010000
END:STANDARD
END:VTIMEZONE
BEGIN:VEVENT
DTSTART;VALUE=DATE:20260607
DTEND;VALUE=DATE:20260614
DTSTAMP:20260420T164617
CREATED:20251207T111738Z
LAST-MODIFIED:20260416T204103Z
UID:72969-1780790400-1781395199@eafps.org
SUMMARY:All in One Rhinoverse Precision Rhinoplasty Cadaver Course
DESCRIPTION:  \nSurgicall Academy proudly presents an intensive course built on the philosophy and technique pioneered by Dr. Emre İlhan : Precision Rhinoplasty. \nNow transformed into a complete educational journey by Dr. Emre Ilhan & Team All Stars with combining:\n🔹 Cadaver Dissection\n🔹 Theoretical Deep-Dive Sessions\n🔹 Live Surgeries \nFrom surgical fundamentals to advanced refinement\, every moment is designed to elevate your anatomical understanding\, your technical accuracy\, and your artistic vision. \nDate : \n7 June 2026 / All in One Rhinoverse Precision- Preservation-Structural Rhinoplasty Cadaver Course \n13 June 2026 / All in One Faceverse Cadaver Course \nLocation : Istanbul\, Turkey \nWhere precision becomes mastery and mastery becomes your signature. \nLearning Objectives\nGuided by Dr. Emre Ilhan & Team \nSee What You Shape:\n– Master the core philosophy of Precision Rhinoplasty under direct vision.\n– Sculpt the dorsal aesthetic lines through advanced sidewall engineering.\n– Perform lateral osteoplasty for controlled\, millimetric bony base refinement.\n– Achieve stable\, natural tip definition using anatomy-driven grafting.\n– Explore real anatomy with hands-on cadaver dissection.\n– Observe two full live surgeries with real-time expert commentary.\n– Elevate your aesthetic judgement to consistently deliver what you truly shape.\n\n\n\n20260613 aio rhinoverse precision rhinoplasty cadaver course 2
URL:https://eafps.org/event/all-in-one-rhinoverse-precision-rhinoplasty-cadaver-course/
LOCATION:İstanbul\, Turkey\, İstanbul\, İstanbul\, Turkey
CATEGORIES:Cadaver Dissection,Live Surgery,Rhinoplasty
ATTACH;FMTTYPE=image/jpeg:https://eafps.org/wp-content/uploads/2025/12/20260613-aio-rhinoverse-precision-rhinoplasty-cadaver-Course-1.jpg
ORGANIZER;CN="A.Emre %C4%B0lhan":MAILTO:info@surgicall.com.tr
END:VEVENT
BEGIN:VEVENT
DTSTART;VALUE=DATE:20260608
DTEND;VALUE=DATE:20260613
DTSTAMP:20260420T164617
CREATED:20251207T113334Z
LAST-MODIFIED:20260416T203533Z
UID:72974-1780876800-1781308799@eafps.org
SUMMARY:All in One Rhinoplasty & Face Congress
DESCRIPTION:[vc_row][vc_column][vc_column_text css=””]Two Worlds. One Stage. A Historic Union. \nThis year\, we are coming bigger\, bolder beyond expectations. \n7 June 2026 / All in One Rhinoverse  Precision- Preservation-Structural Rhinoplasty Cadaver Course \n  \nFor the first time ever\, ALL IN ONE Rhinoverse & Faceverse unite under one extraordinary congress.\nTwo global powerhouses. One monumental scientific experience where science meets art\, and innovation reshapes the future. \nLed by our esteemed Co-Presidents\, this year brings a deeper\, broader\, and more advanced journey into rhinoplasty and facial aesthetics\, with insights from over 100 distinguished speakers in the heart of Istanbul. \n🔹 8–9–10 June — Rhinoverse\nA refined dive into advanced rhinoplasty concepts\, live surgeries and elevated surgical vision. \n🔹 11–12 June — Faceverse\nCutting-edge facial aesthetics\, novel approaches\, and a global exchange of mastery and philosophy. \nSuper Early-Bird registration is officially launched. \nJoin us where brilliance unites where every lecture and every moment is crafted to inspire\, push boundaries\, and shape the next era of facial surgery. \nThe new chapter begins\, Istanbul 2026 \n  \n\n\n[/vc_column_text][vc_images_carousel images=”73791″ img_size=”full” autoplay=”yes” wrap=”yes” css=””][/vc_column][/vc_row]
URL:https://eafps.org/event/all-in-one-rhinoplasty-face-congress/
LOCATION:Hilton İstanbul Bosphorus Hotel\, Hilton İstanbul Bosphorus Hotel\, Istanbul\, Turkey
CATEGORIES:Course,Facelifting,Facial Rejuvenation,Rhinoplasty
ATTACH;FMTTYPE=image/jpeg:https://eafps.org/wp-content/uploads/2025/12/20260608.-aio-rhinoplasty-face-congress-2a.jpg
ORGANIZER;CN="Jos%C3%A9 Carlos Neves":MAILTO:jcneves@myface.pt
END:VEVENT
END:VCALENDAR