BEGIN:VCALENDAR
VERSION:2.0
PRODID:-//EAFPS - ECPv6.15.20//NONSGML v1.0//EN
CALSCALE:GREGORIAN
METHOD:PUBLISH
X-WR-CALNAME:EAFPS
X-ORIGINAL-URL:https://eafps.org
X-WR-CALDESC:Events for EAFPS
REFRESH-INTERVAL;VALUE=DURATION:PT1H
X-Robots-Tag:noindex
X-PUBLISHED-TTL:PT1H
BEGIN:VTIMEZONE
TZID:Europe/Berlin
BEGIN:DAYLIGHT
TZOFFSETFROM:+0100
TZOFFSETTO:+0200
TZNAME:CEST
DTSTART:20250330T010000
END:DAYLIGHT
BEGIN:STANDARD
TZOFFSETFROM:+0200
TZOFFSETTO:+0100
TZNAME:CET
DTSTART:20251026T010000
END:STANDARD
BEGIN:DAYLIGHT
TZOFFSETFROM:+0100
TZOFFSETTO:+0200
TZNAME:CEST
DTSTART:20260329T010000
END:DAYLIGHT
BEGIN:STANDARD
TZOFFSETFROM:+0200
TZOFFSETTO:+0100
TZNAME:CET
DTSTART:20261025T010000
END:STANDARD
BEGIN:DAYLIGHT
TZOFFSETFROM:+0100
TZOFFSETTO:+0200
TZNAME:CEST
DTSTART:20270328T010000
END:DAYLIGHT
BEGIN:STANDARD
TZOFFSETFROM:+0200
TZOFFSETTO:+0100
TZNAME:CET
DTSTART:20271031T010000
END:STANDARD
END:VTIMEZONE
BEGIN:VEVENT
DTSTART;VALUE=DATE:20260319
DTEND;VALUE=DATE:20260321
DTSTAMP:20260421T225239
CREATED:20251119T084119Z
LAST-MODIFIED:20251121T203612Z
UID:72918-1773878400-1774051199@eafps.org
SUMMARY:Foundation Facelift Course
DESCRIPTION:[vc_row][vc_column][vc_column_text css=””]\nAims of the Course\nTo train qualified surgeons using a safe and reliable technique developed by Prof Alwyn D’Souza\, aimed at simplifying the complexity of the surgery. Upon completion of this course\, participants will be confident in safely performing a facelift using these foundational techniques to achieve reliable results. \nThe program also includes key principles of reconstructive facial surgery\, broadening its scope beyond aesthetic procedures. They may also further enhance their skills by attending our advanced facelift course at a later date. \nLimited to 20 disectors only\nExclusive course step by step dissection manual \nTarget Participants\nConsultants\, Facial Plastic Surgery fellows and senior registrars interested in head and neck or facelift procedures\, regardless of prior experience in facelift surgery. \nWhy should you attend?\nYou are new to facelift surgery and want to grasp the basics without being overwhelmed by the multitude of techniques.\nYou aspire to master a single safe technique\, enabling you to confidently offer facelift procedures to your patients.\nYou wish to clarify doubts and unravel the complexities associated with aspects of facelift surgery.\nYou aim to become an advanced facelift surgeon\, building upon a solid foundation.\nYou are committed to delivering exceptional outcomes and enhancing patient satisfaction in your practice. \nCourse Highlights:\nFirst-of-its-kind comprehensive facelift course that covers all the fundamental elements of facelift surgery\, including consultation\, photography\, skin care\, infiltration and post-operative management.\nExpert guidance from experienced trainers in facial plastic surgery\, offering clear and straightforward instruction to candidates.\nHands-on fresh frozen cadaveric dissection\, with a maximum of 2 candidates per cadaver\, prioritising practical learning.\nDetailed discussion of surgical steps with videos\, slides and ample time for questions and answers\, ensuring thorough understanding.\nComplimentary course manual featuring clear surgical steps for each candidate. \n  \nVenue:\nPostgraduate Medical Education Centre\nUniversity Hospitals NHS Trust\nCity Hospital PGEC\nHucknall Rd\nNottingham\nNG5 1PB[/vc_column_text][/vc_column][/vc_row]
URL:https://eafps.org/event/foundation-facelift-course/
LOCATION:Postgraduate Centre\, City Hospital\, Nottingham\, UK\, Postgraduate Centre\, City Hospital\, Nottingham\, Nottingham\, United Kingdom
CATEGORIES:Course,Facelifting,Facial Aesthetics,Facial Plastic,Live Webinars
ATTACH;FMTTYPE=image/jpeg:https://eafps.org/wp-content/uploads/2025/11/20260319-foundation-facelift-course.jpg
END:VEVENT
BEGIN:VEVENT
DTSTART;VALUE=DATE:20260320
DTEND;VALUE=DATE:20260323
DTSTAMP:20260421T225239
CREATED:20251125T195401Z
LAST-MODIFIED:20251128T205511Z
UID:72945-1773964800-1774223999@eafps.org
SUMMARY:Preservation Rhinoplasty
DESCRIPTION:[vc_row][vc_column][vc_column_text css=””]The meeting will take place from March 2026\, Friday 20th to Sunday 22nd\, at the Hotel Le Méridien\, 1 Promenade des Anglais\, Nice\, France. \n  \nThe aim of this 3-day meeting is to discuss the most recent advances introduced by the rhinoplasty masters. Moreover\, exclusive in this meeting: \n– 19 interactive 30 min Masterclasses including surgical edited videos by key opinion leaders to provide an in-depth understanding of the techniques performed and their indications.\n– Advanced management of nostrils’ shapes and size\, and alar base modifications that are always a tricky part of the surgery.\n– Thick skin management through Rhinodesis and transcutaneous sutures\n– “Rhinomyoplasty” will be introduced\, emphasizing the place of the nasal muscles management in rhinoplasty.\n– Nasal tip work regarding lower lateral cartilage preservation\, manipulation and/ or grafting\, as well as nasal SMAS manipulations\n– Experts panels about segmental nasal roof management vs foundation techniques\n– Revision surgeries: How and when suggest dorsum preservation procedures\n– Complications after dorsum preservation: how to avoid/how to manage \n  \nMoreover\, since 2024\, on March Thursday 19th\, a special “Masterclass for Beginners” by Yves Saban\, is preceding the main meeting. This Masterclass has been introduced\, through nasal applied anatomy and functional procedures\, to help the beginners in better and more effective understanding of PR concepts\, classification\, and procedures. So doing\, they will take better advantage of the main expert meeting that will be following this more “basic” masterclass. \n  \nLast but not least\, a nice exhibition providing a wide range of devices\, the friendly atmosphere\, and the location along the Promenade des Anglais on the Mediterranean seashore are part of the trade mark of Nice Preservation Rhinoplasty\, very much appreciated by the participants coming from over 52 countries since 2019. \n  \nOn behalf of the organizing committee\, I will be delighted to welcome you in Nice-PR-2026.[/vc_column_text][/vc_column][/vc_row]
URL:https://eafps.org/event/preservation-rhinoplasty/
LOCATION:Le Méridien Hotel\, Le Méridien Hotel\, 1 Promenade des Anglais\, Nice\, 06000\, France
CATEGORIES:Meetings,Rhinoplasty
ATTACH;FMTTYPE=image/jpeg:https://eafps.org/wp-content/uploads/2025/11/Preservation-Rhinoplasty-Flyer.jpg
ORGANIZER;CN="Yves Saban":MAILTO:info@preservation-rhinoplasty.com
END:VEVENT
END:VCALENDAR