BEGIN:VCALENDAR
VERSION:2.0
PRODID:-//EAFPS - ECPv6.15.20//NONSGML v1.0//EN
CALSCALE:GREGORIAN
METHOD:PUBLISH
X-WR-CALNAME:EAFPS
X-ORIGINAL-URL:https://eafps.org
X-WR-CALDESC:Events for EAFPS
REFRESH-INTERVAL;VALUE=DURATION:PT1H
X-Robots-Tag:noindex
X-PUBLISHED-TTL:PT1H
BEGIN:VTIMEZONE
TZID:Europe/Berlin
BEGIN:DAYLIGHT
TZOFFSETFROM:+0100
TZOFFSETTO:+0200
TZNAME:CEST
DTSTART:20250330T010000
END:DAYLIGHT
BEGIN:STANDARD
TZOFFSETFROM:+0200
TZOFFSETTO:+0100
TZNAME:CET
DTSTART:20251026T010000
END:STANDARD
BEGIN:DAYLIGHT
TZOFFSETFROM:+0100
TZOFFSETTO:+0200
TZNAME:CEST
DTSTART:20260329T010000
END:DAYLIGHT
BEGIN:STANDARD
TZOFFSETFROM:+0200
TZOFFSETTO:+0100
TZNAME:CET
DTSTART:20261025T010000
END:STANDARD
BEGIN:DAYLIGHT
TZOFFSETFROM:+0100
TZOFFSETTO:+0200
TZNAME:CEST
DTSTART:20270328T010000
END:DAYLIGHT
BEGIN:STANDARD
TZOFFSETFROM:+0200
TZOFFSETTO:+0100
TZNAME:CET
DTSTART:20271031T010000
END:STANDARD
END:VTIMEZONE
BEGIN:VEVENT
DTSTART;VALUE=DATE:20261105
DTEND;VALUE=DATE:20261108
DTSTAMP:20260422T050143
CREATED:20260420T193656Z
LAST-MODIFIED:20260420T195337Z
UID:73837-1793836800-1794095999@eafps.org
SUMMARY:London Rhinoplasty Course 2026
DESCRIPTION:[vc_row][vc_column][vc_column_text css=””]London Rhinoplasty Course 2026 is a three days\, CPD certified course\, designed for all surgeons who would like to update their skills and knowledge. \n  \nDay 1: Dissection on Thurs 5th Nov 2026 in London with Faculty demonstrating\n· Nose & Face Anatomy\,\n· Bony Vault Approaches after Trauma\,\n· Airway Obstruction\,\n· Septum. \nDay 2: Lectures and Fast Panel discussion – Fri 6th Nov 2026 in London. First ever demonstration of new Modality in Surgery – await confirmation. \nDay 3: Lectures and Panel discussion – Sat 7th Nov 2026 in London. New Modality in Surgery – await confirmation. \nEach year we have the leaders in rhinoplasty in the faculty from the US and across Europe. \n  \nRhinoplasty\n\nHybrid Preservation Rhinoplasty\nHybrid Push down technique for Hump\nVideos on open rhinoplasty\nVideos on closed rhinoplasty\nSeptoplasty made simple\nSolving complications after rhinoplasty\n“Revision isn’t failure in rhinoplasty”\nHow to run a rhinoplasty practice\nFillers in rhinoplasty\nFace surgery: ancillary procedures for the chin and lips\nPanel discussions\nDo’s and Dont’s of Social Media – NEW\n\n  \nPanel Discussion\n\nFunctional assessment\nCaudal septal deviation\nSpreader grafts\, when and how?\nWhich approach?\nDorsal grafting\nOsteotomies\nCartilage depleted patient\nTip problems\nRevision\nImaging\nDifficult patients\n\n  \nFace and Eyes\n\nStep-by-step dissection of rhinoplasty\nBlepharoplasty marking up and incisions\nFacelift incisions and approaches\nRhinoplasty incisions\nRhinoplasty exposure of the tip\nRhinoplasty osteotomies to the bony vault\nRhinoplasty push down and let down technique\n​Rhinoplasty tip sutures\n\n[/vc_column_text][/vc_column][/vc_row]
URL:https://eafps.org/event/london-rhinoplasty-course-2026/
LOCATION:Royal Society of Medicine London\, Royal Society of Medicine 1 Wimpole Street\, London\, W1G 0AE\, United Kingdom
CATEGORIES:Facial Plastic,Meetings,Nose,Rhinoplasty
ATTACH;FMTTYPE=image/jpeg:https://eafps.org/wp-content/uploads/2026/04/20261106-london-rhinoplastycourse-2026.jpg
ORGANIZER;CN="Rajan Uppal":MAILTO:book@londonrhinoplastycourse.com
END:VEVENT
END:VCALENDAR